BEGIN:VCALENDAR
VERSION:2.0
PRODID:-//TG Obertshausen - ECPv6.15.20//NONSGML v1.0//EN
CALSCALE:GREGORIAN
METHOD:PUBLISH
X-WR-CALNAME:TG Obertshausen
X-ORIGINAL-URL:https://tgo-obertshausen.de
X-WR-CALDESC:Veranstaltungen für TG Obertshausen
REFRESH-INTERVAL;VALUE=DURATION:PT1H
X-Robots-Tag:noindex
X-PUBLISHED-TTL:PT1H
BEGIN:VTIMEZONE
TZID:Europe/Berlin
BEGIN:DAYLIGHT
TZOFFSETFROM:+0100
TZOFFSETTO:+0200
TZNAME:CEST
DTSTART:20250330T010000
END:DAYLIGHT
BEGIN:STANDARD
TZOFFSETFROM:+0200
TZOFFSETTO:+0100
TZNAME:CET
DTSTART:20251026T010000
END:STANDARD
BEGIN:DAYLIGHT
TZOFFSETFROM:+0100
TZOFFSETTO:+0200
TZNAME:CEST
DTSTART:20260329T010000
END:DAYLIGHT
BEGIN:STANDARD
TZOFFSETFROM:+0200
TZOFFSETTO:+0100
TZNAME:CET
DTSTART:20261025T010000
END:STANDARD
BEGIN:DAYLIGHT
TZOFFSETFROM:+0100
TZOFFSETTO:+0200
TZNAME:CEST
DTSTART:20270328T010000
END:DAYLIGHT
BEGIN:STANDARD
TZOFFSETFROM:+0200
TZOFFSETTO:+0100
TZNAME:CET
DTSTART:20271031T010000
END:STANDARD
END:VTIMEZONE
BEGIN:VEVENT
DTSTART;VALUE=DATE:20260301
DTEND;VALUE=DATE:20260302
DTSTAMP:20260420T100439
CREATED:20251207T174038Z
LAST-MODIFIED:20251207T174038Z
UID:10887-1772323200-1772409599@tgo-obertshausen.de
SUMMARY:Handball
DESCRIPTION:11:30\nBadstr.\nWJD-BKL\nHSG OberBieberStamm\nOFC Kickers\n\n\n11:45\n \nWJE-M\nHSG Isenburg/Zeppelinh.\nHSG OberBieberStamm\n\n\n12:45\n \nMJE-A\nTGS Niederrodenbach II\nHSG OberBieberStamm\n\n\n13:00\nBadstr.\nMJB-BKL\nHSG OberBieberStamm\nTGS Niederrodenbach II\n\n\n14:45\nBadstr.\nM-BKL\nHSG OberBieberStamm\nHSG Kinzigtal\n\n\n16:45\nBadstr.\nF-BL\nHSG OberBieberStamm\nHSG Maintal
URL:https://tgo-obertshausen.de/event/handball-15/
END:VEVENT
BEGIN:VEVENT
DTSTART;VALUE=DATE:20260307
DTEND;VALUE=DATE:20260308
DTSTAMP:20260420T100439
CREATED:20251207T174115Z
LAST-MODIFIED:20251207T174115Z
UID:10889-1772841600-1772927999@tgo-obertshausen.de
SUMMARY:Handball
DESCRIPTION:14:30\n \nWJD-BKL\nTGS Seligenstadt\nHSG OberBieberStamm\n\n\n17:00\n \nF-BL\nSG Bruchköbel II\nHSG OberBieberStamm
URL:https://tgo-obertshausen.de/event/handball-16/
END:VEVENT
BEGIN:VEVENT
DTSTART;VALUE=DATE:20260308
DTEND;VALUE=DATE:20260309
DTSTAMP:20260420T100439
CREATED:20251207T174159Z
LAST-MODIFIED:20251207T174159Z
UID:10891-1772928000-1773014399@tgo-obertshausen.de
SUMMARY:Handball
DESCRIPTION:13:00\nBadstr.\nWJE-M\nHSG OberBieberStamm\nHSG Rodgau/N.-Roden\n\n\n14:30\nBadstr.\nMJE-A\nHSG OberBieberStamm\nHSG Dietzenbach\n\n\n16:00\nBadstr.\nMJE-A\nHSG OberBieberStamm II\nHSG Oberhessen\n\n\n18:00\n \nM-BKL\nHSG Isenburg/Zeppelinh.\nHSG OberBieberStamm
URL:https://tgo-obertshausen.de/event/handball-17/
END:VEVENT
BEGIN:VEVENT
DTSTART;VALUE=DATE:20260314
DTEND;VALUE=DATE:20260315
DTSTAMP:20260420T100439
CREATED:20251207T174237Z
LAST-MODIFIED:20251207T174237Z
UID:10893-1773446400-1773532799@tgo-obertshausen.de
SUMMARY:Handball
DESCRIPTION:11:30\n \nWJE-M\nHSG Dietesh./Mühlh.\nHSG OberBieberStamm\n\n\n14:00\nEdith-Stein-Schule\, OF\nGJF\nHSG OberBieberStamm II\nTSG Offenbach-Bürgel II
URL:https://tgo-obertshausen.de/event/handball-18/
END:VEVENT
BEGIN:VEVENT
DTSTART;VALUE=DATE:20260315
DTEND;VALUE=DATE:20260316
DTSTAMP:20260420T100439
CREATED:20251207T174313Z
LAST-MODIFIED:20251207T174313Z
UID:10895-1773532800-1773619199@tgo-obertshausen.de
SUMMARY:Handball
DESCRIPTION:10:45\nHermann-Hesse-Schule\nGJF\nHSG OberBieberStamm III\nHSG Preagberg II\n\n\n11:00\n \nGJF\nHSG Dietesh./Mühlh. II\nHSG OberBieberStamm\n\n\n11:15\n \nMJE-A\nSG Hainhausen\nHSG OberBieberStamm\n\n\n11:30\n \nMJE-A\nHSG Kinzigtal\nHSG OberBieberStamm II\n\n\n11:45\n \nGJF\nHSG OberBieberStamm\nHSG Hanau\n\n\n12:15\nHermann-Hesse-Schule\nGJF\nTV Gelnhausen III\nHSG OberBieberStamm III\n\n\n13:15\nHermann-Hesse-Schule\nWJD-BKL\nHSG OberBieberStamm\nHSG Dietesh./Mühlh.\n\n\n14:45\nHermann-Hesse-Schule\nF-BL\nHSG OberBieberStamm\nSV Erlensee\n\n\n16:15\n \nMJB-BKL\nJSGmB Hainhausen/Dietzenbach II\nHSG OberBieberStamm\n\n\n16:45\nHermann-Hesse-Schule\nM-BKL\nHSG OberBieberStamm\nOFC Kickers II
URL:https://tgo-obertshausen.de/event/handball-19/
END:VEVENT
BEGIN:VEVENT
DTSTART;VALUE=DATE:20260322
DTEND;VALUE=DATE:20260323
DTSTAMP:20260420T100439
CREATED:20251207T174351Z
LAST-MODIFIED:20251207T174351Z
UID:10897-1774137600-1774223999@tgo-obertshausen.de
SUMMARY:Handball
DESCRIPTION:11:45\nEdith-Stein-Schule\, OF\nMJE-A\nHSG OberBieberStamm\nHSG Maintal\n\n\n13:15\nEdith-Stein-Schule\, OF\nMJE-A\nHSG OberBieberStamm II\nTV Wächtersbach\n\n\n14:45\nEdith-Stein-Schule\, OF\nMJB-BKL\nHSG OberBieberStamm\nHSG Dietesh./Mühlh.\n\n\n16:00\n \nF-BL\nHSG Rodgau/N.-Roden II\nHSG OberBieberStamm\n\n\n16:45\nEdith-Stein-Schule\, OF\nM-BKL\nHSG OberBieberStamm\nTV Langenselbold III
URL:https://tgo-obertshausen.de/event/handball-20/
END:VEVENT
END:VCALENDAR