BEGIN:VCALENDAR
VERSION:2.0
PRODID:-//TG Obertshausen - ECPv6.15.20//NONSGML v1.0//EN
CALSCALE:GREGORIAN
METHOD:PUBLISH
X-ORIGINAL-URL:https://tgo-obertshausen.de
X-WR-CALDESC:Veranstaltungen für TG Obertshausen
REFRESH-INTERVAL;VALUE=DURATION:PT1H
X-Robots-Tag:noindex
X-PUBLISHED-TTL:PT1H
BEGIN:VTIMEZONE
TZID:Europe/Berlin
BEGIN:DAYLIGHT
TZOFFSETFROM:+0100
TZOFFSETTO:+0200
TZNAME:CEST
DTSTART:20250330T010000
END:DAYLIGHT
BEGIN:STANDARD
TZOFFSETFROM:+0200
TZOFFSETTO:+0100
TZNAME:CET
DTSTART:20251026T010000
END:STANDARD
BEGIN:DAYLIGHT
TZOFFSETFROM:+0100
TZOFFSETTO:+0200
TZNAME:CEST
DTSTART:20260329T010000
END:DAYLIGHT
BEGIN:STANDARD
TZOFFSETFROM:+0200
TZOFFSETTO:+0100
TZNAME:CET
DTSTART:20261025T010000
END:STANDARD
BEGIN:DAYLIGHT
TZOFFSETFROM:+0100
TZOFFSETTO:+0200
TZNAME:CEST
DTSTART:20270328T010000
END:DAYLIGHT
BEGIN:STANDARD
TZOFFSETFROM:+0200
TZOFFSETTO:+0100
TZNAME:CET
DTSTART:20271031T010000
END:STANDARD
END:VTIMEZONE
BEGIN:VEVENT
DTSTART;TZID=Europe/Berlin:20261108T103000
DTEND;TZID=Europe/Berlin:20261108T123000
DTSTAMP:20260420T164622
CREATED:20251207T125450Z
LAST-MODIFIED:20251207T125450Z
UID:10857-1794133800-1794141000@tgo-obertshausen.de
SUMMARY:Mitgliederehrung 2026
DESCRIPTION:
URL:https://tgo-obertshausen.de/event/mitgliederehrung-2026/
LOCATION:TGO Vereinsheim\, Badstr.\, Obertshausen\, 63179
END:VEVENT
END:VCALENDAR