BEGIN:VCALENDAR
VERSION:2.0
PRODID:-//TG Obertshausen - ECPv6.15.20//NONSGML v1.0//EN
CALSCALE:GREGORIAN
METHOD:PUBLISH
X-WR-CALNAME:TG Obertshausen
X-ORIGINAL-URL:https://tgo-obertshausen.de
X-WR-CALDESC:Veranstaltungen für TG Obertshausen
REFRESH-INTERVAL;VALUE=DURATION:PT1H
X-Robots-Tag:noindex
X-PUBLISHED-TTL:PT1H
BEGIN:VTIMEZONE
TZID:Europe/Berlin
BEGIN:DAYLIGHT
TZOFFSETFROM:+0100
TZOFFSETTO:+0200
TZNAME:CEST
DTSTART:20250330T010000
END:DAYLIGHT
BEGIN:STANDARD
TZOFFSETFROM:+0200
TZOFFSETTO:+0100
TZNAME:CET
DTSTART:20251026T010000
END:STANDARD
BEGIN:DAYLIGHT
TZOFFSETFROM:+0100
TZOFFSETTO:+0200
TZNAME:CEST
DTSTART:20260329T010000
END:DAYLIGHT
BEGIN:STANDARD
TZOFFSETFROM:+0200
TZOFFSETTO:+0100
TZNAME:CET
DTSTART:20261025T010000
END:STANDARD
BEGIN:DAYLIGHT
TZOFFSETFROM:+0100
TZOFFSETTO:+0200
TZNAME:CEST
DTSTART:20270328T010000
END:DAYLIGHT
BEGIN:STANDARD
TZOFFSETFROM:+0200
TZOFFSETTO:+0100
TZNAME:CET
DTSTART:20271031T010000
END:STANDARD
END:VTIMEZONE
BEGIN:VEVENT
DTSTART;VALUE=DATE:20260308
DTEND;VALUE=DATE:20260309
DTSTAMP:20260420T112156
CREATED:20251207T174159Z
LAST-MODIFIED:20251207T174159Z
UID:10891-1772928000-1773014399@tgo-obertshausen.de
SUMMARY:Handball
DESCRIPTION:13:00\nBadstr.\nWJE-M\nHSG OberBieberStamm\nHSG Rodgau/N.-Roden\n\n\n14:30\nBadstr.\nMJE-A\nHSG OberBieberStamm\nHSG Dietzenbach\n\n\n16:00\nBadstr.\nMJE-A\nHSG OberBieberStamm II\nHSG Oberhessen\n\n\n18:00\n \nM-BKL\nHSG Isenburg/Zeppelinh.\nHSG OberBieberStamm
URL:https://tgo-obertshausen.de/event/handball-17/
END:VEVENT
END:VCALENDAR