BEGIN:VCALENDAR
VERSION:2.0
PRODID:-//TG Obertshausen - ECPv6.15.20//NONSGML v1.0//EN
CALSCALE:GREGORIAN
METHOD:PUBLISH
X-ORIGINAL-URL:https://tgo-obertshausen.de
X-WR-CALDESC:Veranstaltungen für TG Obertshausen
REFRESH-INTERVAL;VALUE=DURATION:PT1H
X-Robots-Tag:noindex
X-PUBLISHED-TTL:PT1H
BEGIN:VTIMEZONE
TZID:Europe/Berlin
BEGIN:DAYLIGHT
TZOFFSETFROM:+0100
TZOFFSETTO:+0200
TZNAME:CEST
DTSTART:20250330T010000
END:DAYLIGHT
BEGIN:STANDARD
TZOFFSETFROM:+0200
TZOFFSETTO:+0100
TZNAME:CET
DTSTART:20251026T010000
END:STANDARD
BEGIN:DAYLIGHT
TZOFFSETFROM:+0100
TZOFFSETTO:+0200
TZNAME:CEST
DTSTART:20260329T010000
END:DAYLIGHT
BEGIN:STANDARD
TZOFFSETFROM:+0200
TZOFFSETTO:+0100
TZNAME:CET
DTSTART:20261025T010000
END:STANDARD
BEGIN:DAYLIGHT
TZOFFSETFROM:+0100
TZOFFSETTO:+0200
TZNAME:CEST
DTSTART:20270328T010000
END:DAYLIGHT
BEGIN:STANDARD
TZOFFSETFROM:+0200
TZOFFSETTO:+0100
TZNAME:CET
DTSTART:20271031T010000
END:STANDARD
END:VTIMEZONE
BEGIN:VEVENT
DTSTART;VALUE=DATE:20260301
DTEND;VALUE=DATE:20260302
DTSTAMP:20260422T131301
CREATED:20251207T174038Z
LAST-MODIFIED:20251207T174038Z
UID:10887-1772323200-1772409599@tgo-obertshausen.de
SUMMARY:Handball
DESCRIPTION:11:30\nBadstr.\nWJD-BKL\nHSG OberBieberStamm\nOFC Kickers\n\n\n11:45\n \nWJE-M\nHSG Isenburg/Zeppelinh.\nHSG OberBieberStamm\n\n\n12:45\n \nMJE-A\nTGS Niederrodenbach II\nHSG OberBieberStamm\n\n\n13:00\nBadstr.\nMJB-BKL\nHSG OberBieberStamm\nTGS Niederrodenbach II\n\n\n14:45\nBadstr.\nM-BKL\nHSG OberBieberStamm\nHSG Kinzigtal\n\n\n16:45\nBadstr.\nF-BL\nHSG OberBieberStamm\nHSG Maintal
URL:https://tgo-obertshausen.de/event/handball-15/
END:VEVENT
END:VCALENDAR