BEGIN:VCALENDAR
VERSION:2.0
PRODID:-//TG Obertshausen - ECPv6.15.20//NONSGML v1.0//EN
CALSCALE:GREGORIAN
METHOD:PUBLISH
X-WR-CALNAME:TG Obertshausen
X-ORIGINAL-URL:https://tgo-obertshausen.de
X-WR-CALDESC:Veranstaltungen für TG Obertshausen
REFRESH-INTERVAL;VALUE=DURATION:PT1H
X-Robots-Tag:noindex
X-PUBLISHED-TTL:PT1H
BEGIN:VTIMEZONE
TZID:Europe/Berlin
BEGIN:DAYLIGHT
TZOFFSETFROM:+0100
TZOFFSETTO:+0200
TZNAME:CEST
DTSTART:20240331T010000
END:DAYLIGHT
BEGIN:STANDARD
TZOFFSETFROM:+0200
TZOFFSETTO:+0100
TZNAME:CET
DTSTART:20241027T010000
END:STANDARD
BEGIN:DAYLIGHT
TZOFFSETFROM:+0100
TZOFFSETTO:+0200
TZNAME:CEST
DTSTART:20250330T010000
END:DAYLIGHT
BEGIN:STANDARD
TZOFFSETFROM:+0200
TZOFFSETTO:+0100
TZNAME:CET
DTSTART:20251026T010000
END:STANDARD
BEGIN:DAYLIGHT
TZOFFSETFROM:+0100
TZOFFSETTO:+0200
TZNAME:CEST
DTSTART:20260329T010000
END:DAYLIGHT
BEGIN:STANDARD
TZOFFSETFROM:+0200
TZOFFSETTO:+0100
TZNAME:CET
DTSTART:20261025T010000
END:STANDARD
END:VTIMEZONE
BEGIN:VEVENT
DTSTART;VALUE=DATE:20251213
DTEND;VALUE=DATE:20251214
DTSTAMP:20260421T220914
CREATED:20251207T173032Z
LAST-MODIFIED:20251207T173154Z
UID:10859-1765584000-1765670399@tgo-obertshausen.de
SUMMARY:Handball
DESCRIPTION:11:00\n \nGJF\nTV Altenhaßlau\nHSG OberBieberStamm III\n\n\n11:45\n \nGJF\nHSG OberBieberStamm III\nHSG Oberhessen
URL:https://tgo-obertshausen.de/event/handball/
END:VEVENT
END:VCALENDAR